BEGIN:VCALENDAR
VERSION:2.0
PRODID:-//Sussex County 4-H - ECPv6.14.1//NONSGML v1.0//EN
CALSCALE:GREGORIAN
METHOD:PUBLISH
X-WR-CALNAME:Sussex County 4-H
X-ORIGINAL-URL:https://www.sussex4h.org
X-WR-CALDESC:Events for Sussex County 4-H
REFRESH-INTERVAL;VALUE=DURATION:PT1H
X-Robots-Tag:noindex
X-PUBLISHED-TTL:PT1H
BEGIN:VTIMEZONE
TZID:America/New_York
BEGIN:DAYLIGHT
TZOFFSETFROM:-0500
TZOFFSETTO:-0400
TZNAME:EDT
DTSTART:20240310T070000
END:DAYLIGHT
BEGIN:STANDARD
TZOFFSETFROM:-0400
TZOFFSETTO:-0500
TZNAME:EST
DTSTART:20241103T060000
END:STANDARD
BEGIN:DAYLIGHT
TZOFFSETFROM:-0500
TZOFFSETTO:-0400
TZNAME:EDT
DTSTART:20250309T070000
END:DAYLIGHT
BEGIN:STANDARD
TZOFFSETFROM:-0400
TZOFFSETTO:-0500
TZNAME:EST
DTSTART:20251102T060000
END:STANDARD
END:VTIMEZONE
BEGIN:VEVENT
DTSTART;TZID=America/New_York:20240701T083000
DTEND;TZID=America/New_York:20240701T163000
DTSTAMP:20260422T182814
CREATED:20221214T203942Z
LAST-MODIFIED:20231025T130607Z
UID:24073-1719822600-1719851400@www.sussex4h.org
SUMMARY:Deadline: Registration for 2024 NJ State Fair/Sussex County Farm and Horse Show
DESCRIPTION:All registration materials for the 2024 New Jersey State Fair/Sussex County Farm and Horse Show must be turned into the Sussex County 4-H Office by the close of business (4:30 pm) on July 1. \nThis includes: \n\nComplete/Up-to-Date 4-H Member Project Record Books-signed by the 4-H member\, parent/guardian\, and 4-H club volunteer\nFair pass request form for the club-including a check for parent passes\nRegistration forms for any/all 4-H animal shows as well as projects exhibited in the Shotwell Building
URL:https://www.sussex4h.org/event/deadline-registration-for-2023-nj-state-fair-sussex-county-farm-and-horse-show
LOCATION:NJ
END:VEVENT
BEGIN:VEVENT
DTSTART;TZID=America/New_York:20250801T170000
DTEND;TZID=America/New_York:20250810T220000
DTSTAMP:20260422T182814
CREATED:20221214T204815Z
LAST-MODIFIED:20250603T141644Z
UID:24075-1754067600-1754863200@www.sussex4h.org
SUMMARY:2025 New Jersey State Fair/Sussex County Farm and Horse Show
DESCRIPTION:The New Jersey State Fair/Sussex County Farm and Horse Show features a bevy of livestock shows and other events. Sussex County 4-H members participate in livestock competitions and exhibit projects in the Shotwell 4-H Building.
URL:https://www.sussex4h.org/event/2023-new-jersey-state-fair-sussex-county-farm-and-horse-show
LOCATION:Sussex County Fairgrounds\, 37 Plains Road\, Augusta\, NJ\, 07822\, United States
CATEGORIES:Local Event,New Jersey State Fair/Sussex County Farm and Horse Show
END:VEVENT
END:VCALENDAR