BEGIN:VCALENDAR
VERSION:2.0
PRODID:-//Sussex County 4-H - ECPv6.14.1//NONSGML v1.0//EN
CALSCALE:GREGORIAN
METHOD:PUBLISH
X-WR-CALNAME:Sussex County 4-H
X-ORIGINAL-URL:https://www.sussex4h.org
X-WR-CALDESC:Events for Sussex County 4-H
REFRESH-INTERVAL;VALUE=DURATION:PT1H
X-Robots-Tag:noindex
X-PUBLISHED-TTL:PT1H
BEGIN:VTIMEZONE
TZID:America/New_York
BEGIN:DAYLIGHT
TZOFFSETFROM:-0500
TZOFFSETTO:-0400
TZNAME:EDT
DTSTART:20210314T070000
END:DAYLIGHT
BEGIN:STANDARD
TZOFFSETFROM:-0400
TZOFFSETTO:-0500
TZNAME:EST
DTSTART:20211107T060000
END:STANDARD
BEGIN:DAYLIGHT
TZOFFSETFROM:-0500
TZOFFSETTO:-0400
TZNAME:EDT
DTSTART:20220313T070000
END:DAYLIGHT
BEGIN:STANDARD
TZOFFSETFROM:-0400
TZOFFSETTO:-0500
TZNAME:EST
DTSTART:20221106T060000
END:STANDARD
END:VTIMEZONE
BEGIN:VEVENT
DTSTART;TZID=America/New_York:20220701T083000
DTEND;TZID=America/New_York:20220701T163000
DTSTAMP:20260420T030547
CREATED:20211021T165121Z
LAST-MODIFIED:20211021T165121Z
UID:21707-1656664200-1656693000@www.sussex4h.org
SUMMARY:Record Books and Fair entries due to the 4-H Office
DESCRIPTION:ALL Record Books and Fair entries are due to the 4-H Office by July 1\, by close of office hours (4:30 pm).\nProject Record books can be found on the NJ 4-H Web site at the following link: Record Books: Rutgers New Jersey 4-H \nThe Exhibit Catalogue and 4-H Fair Entry Forms can be found on our website in the Forms tab under the ‘NJSF/SCFHS’ section.
URL:https://www.sussex4h.org/event/record-books-and-fair-entries-due-to-the-4-h-office
LOCATION:Sussex County RCE/4-H Office\, 130 Morris Turnpike\, Newton\, NJ\, 07860\, United States
CATEGORIES:Local Event,New Jersey State Fair/Sussex County Farm and Horse Show
END:VEVENT
BEGIN:VEVENT
DTSTART;VALUE=DATE:20220601
DTEND;VALUE=DATE:20220602
DTSTAMP:20260420T030547
CREATED:20211021T170805Z
LAST-MODIFIED:20211021T170950Z
UID:21712-1654041600-1654127999@www.sussex4h.org
SUMMARY:Sussex County 4-H Animal Project Representative Applications due
DESCRIPTION:4-H Members in grades 9-13 who have completed three years in an animal project area are encouraged to apply to represent their animal species as this year’s 2022 Animal representative. Members applying must have completed a County level public presentation for the current project year to be considered. Priority will be given to those in 11-13th grade \nIn the event of a competition for representative\, more than one person applies; independent judges review the contestants’ application and schedule an interview portion for each applicant. Individual interviews will last approximately ten minutes with each judge asking 1-3 questions. Contestants applying will need to be able to attend the following required events during the fair if chosen: \n– NJSF/SCF&HS Opening Ceremonies (and parade if applicable) on the First Saturday.\n– Queen of the Fair Contest on the first Saturday\n– Be available in your species barn from 5:30 pm to 7:30 pm on the Thursday of the Fair to assist Round Robin participants.\n– If not a participant in Round robin\, assist during the Round Robin event.\n– *Livestock Reps Only– Assist with Market Animal Dinner and Sale (Tuesday evening)\n– Assist with species shows and other tasks as requested by your animal area coordinator. \nThe S. C. 4-H Animal Representative application packets must be completed and turned in to your 4-H club leader.  The applications received by club leaders should be submitted to the 4-H office no later than June 1.  \nApplications can be downloaded at:\nhttps://www.sussex4h.org/wp-content/uploads/2021/10/SC-Animal-Rep.-Application-Fillable-rev8.2021.pdf
URL:https://www.sussex4h.org/event/sussex-county-4-h-animal-project-representative-applications-due
LOCATION:Sussex County RCE/4-H Office\, 130 Morris Turnpike\, Newton\, NJ\, 07860\, United States
ATTACH;FMTTYPE=image/png:https://www.sussex4h.org/wp-content/uploads/2021/05/SC-Animals-Clover.png
END:VEVENT
BEGIN:VEVENT
DTSTART;VALUE=DATE:20220530
DTEND;VALUE=DATE:20220531
DTSTAMP:20260420T030547
CREATED:20211021T171057Z
LAST-MODIFIED:20211021T171159Z
UID:21721-1653868800-1653955199@www.sussex4h.org
SUMMARY:RCE/4-H Office Closed
DESCRIPTION:
URL:https://www.sussex4h.org/event/rce-4-h-office-closed-7
ATTACH;FMTTYPE=image/jpeg:https://www.sussex4h.org/wp-content/uploads/2021/05/download.jpg
END:VEVENT
BEGIN:VEVENT
DTSTART;TZID=America/New_York:20220415T080000
DTEND;TZID=America/New_York:20220415T170000
DTSTAMP:20260420T030547
CREATED:20211021T182857Z
LAST-MODIFIED:20211021T182857Z
UID:21728-1650009600-1650042000@www.sussex4h.org
SUMMARY:Ag. Division of the NJ State Fair/Sussex County Farm & Horse Show Agricultural Scholarship
DESCRIPTION:Agricultural Scholarships are presented each year by the Ag. Division of the NJ State Fair/Sussex County Farm & Horse Show and applications are now being accepted for any Sussex County graduating high school senior or college student currently enrolled in an agricultural program pursuing a two or four-year degree\, or graduate studies in one of the many fields of Agriculture. \nFor more information and the application please go to Sussexcountyfairgrounds.org and click on Fairgrounds/Ag/Ag. History for the PDF application.  Information is also available in local guidance offices.  Mail application to the Ag. Scholarship Selection Committee\, c/o G. Danko\, P.O Box 2456\, Branchville\, NJ 07826.  The deadline is April 15th. \nTo view all scholarships that may available to 4-H members go to Forms – Sussex County 4-H (sussex4h.org) and scroll down to the Scholarship section.
URL:https://www.sussex4h.org/event/ag-division-of-the-nj-state-fair-sussex-county-farm-horse-show-agricultural-scholarship
LOCATION:Sussex County Fairgrounds\, 37 Plains Road\, Augusta\, NJ\, 07822\, United States
CATEGORIES:Local Event,New Jersey State Fair/Sussex County Farm and Horse Show
END:VEVENT
BEGIN:VEVENT
DTSTART;VALUE=DATE:20220415
DTEND;VALUE=DATE:20220416
DTSTAMP:20260420T030547
CREATED:20211021T171532Z
LAST-MODIFIED:20211021T171532Z
UID:21723-1649980800-1650067199@www.sussex4h.org
SUMMARY:RCE/4-H Office Closed
DESCRIPTION:
URL:https://www.sussex4h.org/event/rce-4-h-office-closed-8
ATTACH;FMTTYPE=image/jpeg:https://www.sussex4h.org/wp-content/uploads/2021/10/Gd-Frdy.jpg
END:VEVENT
BEGIN:VEVENT
DTSTART;TZID=America/New_York:20220410T150000
DTEND;TZID=America/New_York:20220410T180000
DTSTAMP:20260420T030547
CREATED:20190925T210421Z
LAST-MODIFIED:20220208T141701Z
UID:10084-1649602800-1649613600@www.sussex4h.org
SUMMARY:Sussex 4-H Rabbit/Cavy/Small Animal Showmanship and Skillathon-2
DESCRIPTION:The Sussex County 4-H rabbit project holds its annual Showmanship and Skillathon clinics over two weekends in spring prior to the New Jersey State Fair/Sussex County Farm and Horse Show. 4-H members who intend to show their project rabbits at the fair are required to participate in this event. \nThose members who would like to compete in the Sussex County 4-H Round Robin Showmanship Championship must compete in the first clinic to be eligible. \nThe event is held in the Phoebe and Ralph Shotwell 4-H Exhibition Hall on the Sussex County Fairgrounds. \n\nMembers are encouraged to use appropriate travel cages for transport.\nAn online sign-up form will be sent via email to schedule members.
URL:https://www.sussex4h.org/event/sussex-4-h-rabbit-cavy-small-animal-showmanship-and-skillathon-2
LOCATION:Sussex County Fairgrounds\, 37 Plains Road\, Augusta\, NJ\, 07822\, United States
CATEGORIES:Local Event
ORGANIZER;CN="Sussex County 4-H":MAILTO:patrie@njaes.rutgers.edu
END:VEVENT
BEGIN:VEVENT
DTSTART;TZID=America/New_York:20220402T090000
DTEND;TZID=America/New_York:20220402T120000
DTSTAMP:20260420T030547
CREATED:20190925T210505Z
LAST-MODIFIED:20220208T141755Z
UID:10057-1648890000-1648900800@www.sussex4h.org
SUMMARY:Sussex 4-H Rabbit/Cavy/Small Animal Showmanship and Skillathon-1
DESCRIPTION:The Sussex County 4-H rabbit project holds its annual showmanship and skillathon clinics over two weekends in spring prior to the New Jersey State Fair/Sussex County Farm and Horse Show. 4-H members who intend to show their project rabbits at the fair are required to participate in this event. \nThose members who would like to compete in the Sussex County 4-H Round Robin Showmanship Championship must compete in the first clinic to be eligible. \nThe event is held in the Phoebe and Ralph Shotwell 4-H Exhibition Hall on the Sussex County Fairgrounds. \n\nMembers are encouraged to use appropriate travel cages for transport.\nAn online sign-up form will be sent via email to schedule members.
URL:https://www.sussex4h.org/event/sussex-4-h-rabbit-cavy-small-animal-showmanship-and-skillathon-1
LOCATION:Sussex County Fairgrounds\, 37 Plains Road\, Augusta\, NJ\, 07822\, United States
CATEGORIES:Local Event
ORGANIZER;CN="Sussex County 4-H":MAILTO:patrie@njaes.rutgers.edu
END:VEVENT
BEGIN:VEVENT
DTSTART;VALUE=DATE:20220401
DTEND;VALUE=DATE:20220402
DTSTAMP:20260420T030547
CREATED:20211021T182724Z
LAST-MODIFIED:20211021T182724Z
UID:21726-1648771200-1648857599@www.sussex4h.org
SUMMARY:Sussex County 4-H Foundation Fund Scholarship due
DESCRIPTION:Applicants must be currently active in the 4-H program and for at least five (5) years\, four (4) of which should be in high school. \nApplications are due to the 4-H Office\, by emailed to foord@njaes.rutgers.edu\, or postmarked by April 1. \nFor the Application go to: https://www.sussex4h.org/wp-content/uploads/2020/01/2020-SC4HFndtn-Schlrshp-App_forms_ue_1-17.pdf
URL:https://www.sussex4h.org/event/sussex-county-4-h-foundation-fund-scholarship-due
CATEGORIES:Local Event
END:VEVENT
BEGIN:VEVENT
DTSTART;VALUE=DATE:20220326
DTEND;VALUE=DATE:20220327
DTSTAMP:20260420T030547
CREATED:20220106T153302Z
LAST-MODIFIED:20220106T153311Z
UID:22357-1648252800-1648339199@www.sussex4h.org
SUMMARY:Rutgers Junior Breeders Livestock Symposium
DESCRIPTION:Hands-on workshops for youth are presented in the following tracks: Equine\, Dairy\, Small Ruminant (Goats and Sheep)\, and Rabbits. This event is sponsored by the New Jersey Department of Agriculture Junior Breeder program in cooperation with Rutgers Cooperative Extension faculty and staff. \nCurrently planned for in-person event on Cook Campus of Rutgers University Saturday\, March 26\, 2022 — subject to Rutgers Cooperative Extension in-person programming policy. Supplemental online programs to launch on April 2\, 2022. More details are to be announced soon.
URL:https://www.sussex4h.org/event/rutgers-junior-breeders-livestock-symposium
CATEGORIES:State 4-H Event
END:VEVENT
BEGIN:VEVENT
DTSTART;TZID=America/New_York:20220325T184500
DTEND;TZID=America/New_York:20220325T210000
DTSTAMP:20260420T030547
CREATED:20190213T090547Z
LAST-MODIFIED:20220104T212623Z
UID:4533-1648233900-1648242000@www.sussex4h.org
SUMMARY:Sussex County 4-H Public Presentations\, Night Four
DESCRIPTION:Presentations are held over four Friday nights in March. \nMembers may register through their family profile in 4-HOnline. \nThis night of presentations is (tentatively) scheduled to be held at Kittatinny Regional High School* with presenters divided among classrooms. \nAll presentations begin promptly at 7:00 pm\, check-in begins at 6:45 pm. \n*If Covid-19 safety precautions prevent in-person presentations\, this event will be moved online to Zoom.
URL:https://www.sussex4h.org/event/sussex-county-4-h-public-presentations-night-four-tentative
LOCATION:Kittatinny Regional High School\, 77 Halsey Road\, Newton\, 07860\, United States
CATEGORIES:Local Event,Public Presentations
END:VEVENT
BEGIN:VEVENT
DTSTART;VALUE=DATE:20220319
DTEND;VALUE=DATE:20220320
DTSTAMP:20260420T030547
CREATED:20220106T152911Z
LAST-MODIFIED:20220217T172548Z
UID:22355-1647648000-1647734399@www.sussex4h.org
SUMMARY:NJ 4-H Dairy Quiz Bowl
DESCRIPTION:
URL:https://www.sussex4h.org/event/nj-4-h-dairy-quiz-bowl
END:VEVENT
BEGIN:VEVENT
DTSTART;TZID=America/New_York:20220318T184500
DTEND;TZID=America/New_York:20220318T210000
DTSTAMP:20260420T030547
CREATED:20190213T090150Z
LAST-MODIFIED:20220104T212500Z
UID:4530-1647629100-1647637200@www.sussex4h.org
SUMMARY:Sussex County 4-H Public Presentations\, Night Three
DESCRIPTION:Presentations are held over four Friday nights in March. \nMembers may register through their family profile in 4-HOnline. \nThis night of presentations is (tentatively) scheduled to be held at High Point Regional High School* with presenters divided among classrooms. \nAll presentations begin promptly at 7:00 pm\, check-in begins at 6:45 pm. \n*If Covid-19 safety precautions prevent in-person presentations\, this event will be moved online to Zoom.
URL:https://www.sussex4h.org/event/sussex-county-4-h-public-presentations-night-three-tentative
LOCATION:High Point Regional High School\, 299 Pidgeon Hill Road\, Sussex\, NJ\, 07461\, United States
CATEGORIES:Public Presentations
ORGANIZER;CN="Sussex County 4-H":MAILTO:patrie@njaes.rutgers.edu
END:VEVENT
BEGIN:VEVENT
DTSTART;TZID=America/New_York:20220311T184500
DTEND;TZID=America/New_York:20220311T210000
DTSTAMP:20260420T030547
CREATED:20190213T085726Z
LAST-MODIFIED:20220104T212258Z
UID:4528-1647024300-1647032400@www.sussex4h.org
SUMMARY:Sussex County 4-H Public Presentations\, Night Two
DESCRIPTION:2022: Due to Covid-19 safety restrictions\, this event will be held via Zoom. \nPresentations will be held over four Friday nights in March. \nMembers may register through their family profile in 4-HOnline.
URL:https://www.sussex4h.org/event/sussex-county-4-h-public-presentations-night-two-tentative
CATEGORIES:Local Event,Public Presentations
ORGANIZER;CN="Sussex County 4-H":MAILTO:patrie@njaes.rutgers.edu
END:VEVENT
BEGIN:VEVENT
DTSTART;TZID=America/New_York:20220304T190000
DTEND;TZID=America/New_York:20220304T210000
DTSTAMP:20260420T030547
CREATED:20190213T085607Z
LAST-MODIFIED:20220217T172259Z
UID:4526-1646420400-1646427600@www.sussex4h.org
SUMMARY:CANCELED - Sussex County 4-H Public Presentations\, Night One
DESCRIPTION:2022: Due to Covid-19 safety restrictions\, this event will be held via Zoom. \nPresentations will be held over four Friday nights in March. \nMembers may register through their family profile in 4-HOnline. \n 
URL:https://www.sussex4h.org/event/sussex-county-4-h-public-presentations-night-one-tentative
CATEGORIES:Local Event,Public Presentations
ORGANIZER;CN="Sussex County 4-H":MAILTO:patrie@njaes.rutgers.edu
END:VEVENT
BEGIN:VEVENT
DTSTART;VALUE=DATE:20220221
DTEND;VALUE=DATE:20220222
DTSTAMP:20260420T030547
CREATED:20211021T162017Z
LAST-MODIFIED:20211021T162017Z
UID:21703-1645401600-1645487999@www.sussex4h.org
SUMMARY:RCE/4-H Office Closed
DESCRIPTION:
URL:https://www.sussex4h.org/event/rce-4-h-office-closed-5
ATTACH;FMTTYPE=image/png:https://www.sussex4h.org/wp-content/uploads/2021/02/R9eb6a24ee69cbef1b431eff270efc8b7.png
END:VEVENT
BEGIN:VEVENT
DTSTART;TZID=America/New_York:20220212T000000
DTEND;TZID=America/New_York:20220212T000000
DTSTAMP:20260420T030547
CREATED:20220114T141652Z
LAST-MODIFIED:20220114T141652Z
UID:22432-1644624000-1644624000@www.sussex4h.org
SUMMARY:4-H Goat Extravaganza
DESCRIPTION:See the state 4-H goat website\,  http://nj4h.rutgers.edu/goats/extravaganza/\,  for all of the information you need to register for the NJ 4-H Goat Extravaganza (poster/presentation contest\, skill-a-thon\, quiz bowl\, art show\, workshop for parents and volunteers\, and social) on Saturday\, February 12 at Rutgers Cooperative Extension of Mercer County in the Mercer County Office Park\, 1440 Parkside Avenue\, Ewing (NEW location this year). \nSimple and quick online registration is due by Thursday\, January 20.
URL:https://www.sussex4h.org/event/4-h-goat-extravaganza
LOCATION:Rutgers Cooperatinve Extension of Mercer County\, 1440 Parkside Ave\, Ewing\, NJ\, United States
CATEGORIES:State 4-H Event
ATTACH;FMTTYPE=image/jpeg:https://www.sussex4h.org/wp-content/uploads/2022/01/2022-goatex-flyer.jpg
ORGANIZER;CN="Chad Ripberger%2C 4-H Agent%2C Mercer County":MAILTO:ripberger@njaes.rutgers.edu
END:VEVENT
BEGIN:VEVENT
DTSTART;VALUE=DATE:20220201
DTEND;VALUE=DATE:20220202
DTSTAMP:20260420T030547
CREATED:20211021T163500Z
LAST-MODIFIED:20211021T163500Z
UID:21705-1643673600-1643759999@www.sussex4h.org
SUMMARY:4-H Exhibit Catalogue Changes due to the 4-H Office Staff
DESCRIPTION:The deadline to make any changes to the 4-H Exhibit Catalogue for the NJ State Fair/Sussex County Farm & Horse Show are due to the 4-H Office staff. Any changes submitted after the deadline will be considered for the following fair year.
URL:https://www.sussex4h.org/event/4-h-exhibit-catalogue-changes-due-to-the-4-h-office-staff
END:VEVENT
BEGIN:VEVENT
DTSTART;VALUE=DATE:20220201
DTEND;VALUE=DATE:20220202
DTSTAMP:20260420T030547
CREATED:20211021T161758Z
LAST-MODIFIED:20211021T161758Z
UID:21701-1643673600-1643759999@www.sussex4h.org
SUMMARY:County Public Presentation Registration Deadline.
DESCRIPTION:
URL:https://www.sussex4h.org/event/county-public-presentation-registration-deadline
CATEGORIES:Local Event,Public Presentations
ATTACH;FMTTYPE=image/png:https://www.sussex4h.org/wp-content/uploads/2020/08/pp.png
END:VEVENT
BEGIN:VEVENT
DTSTART;VALUE=DATE:20220120
DTEND;VALUE=DATE:20220121
DTSTAMP:20260420T030547
CREATED:20220106T151227Z
LAST-MODIFIED:20220106T155328Z
UID:22345-1642636800-1642723199@www.sussex4h.org
SUMMARY:4-H Top Chef Virtual Competition
DESCRIPTION:All 4-H members and parents are invited to take part in this virtual competition by creating a dish or meal and sharing the preparation via a video entry.  All contestants will receive ribbons and judging results\, top winners in categories receive trophies. \nEnter by January 20\, 2022 at https://tinyurl.com/20224HTOPCHEF.  Video entries are due by January 29th.
URL:https://www.sussex4h.org/event/4-h-top-chef-virtual-competition
CATEGORIES:State 4-H Event
ATTACH;FMTTYPE=image/jpeg:https://www.sussex4h.org/wp-content/uploads/2022/01/270358908_1910271369169432_360438279745777973_n.jpg
ORGANIZER;CN="Laura Bovitz":MAILTO:lbovitz@njaes.rutgers.edu.
END:VEVENT
BEGIN:VEVENT
DTSTART;VALUE=DATE:20220120
DTEND;VALUE=DATE:20220304
DTSTAMP:20260420T030547
CREATED:20220106T153628Z
LAST-MODIFIED:20220106T155114Z
UID:22360-1642636800-1646351999@www.sussex4h.org
SUMMARY:Young Researchers A Youth Club on Publication
DESCRIPTION:  \nHave you ever thought about publishing your own writing? In partnership with John Wiley and Sons\, youth are invited to learn about the process of publishing\, careers in publishing and will work on a team to publish their own product!  Youth researchers will walk through the author’s journey to create content that will be published online by global publishing powerhouse\, John Wiley and Sons. \n  \nWeekly Sessions: Thursdays 4 p.m. – 5 p.m.\, Jan 20 – March 3 \nRegister: https://rutgers.ca1.qualtrics.com/jfe/form/SV_6YExvPSzb6vRJeS
URL:https://www.sussex4h.org/event/young-researchers-a-youth-club-on-publication
CATEGORIES:State 4-H Event
ATTACH;FMTTYPE=image/jpeg:https://www.sussex4h.org/wp-content/uploads/2021/12/youth-club-on-publication-2022.jpg
END:VEVENT
BEGIN:VEVENT
DTSTART;TZID=America/New_York:20220117T080000
DTEND;TZID=America/New_York:20220117T170000
DTSTAMP:20260420T030547
CREATED:20211021T160740Z
LAST-MODIFIED:20211021T160740Z
UID:21698-1642406400-1642438800@www.sussex4h.org
SUMMARY:RCE/4-H Office Closed
DESCRIPTION:
URL:https://www.sussex4h.org/event/rce-4-h-office-closed-4
ATTACH;FMTTYPE=image/jpeg:https://www.sussex4h.org/wp-content/uploads/2021/10/OIP.jpg
END:VEVENT
BEGIN:VEVENT
DTSTART;TZID=America/New_York:20220115T000000
DTEND;TZID=America/New_York:20220115T000000
DTSTAMP:20260420T030547
CREATED:20220106T152145Z
LAST-MODIFIED:20220106T154649Z
UID:22349-1642204800-1642204800@www.sussex4h.org
SUMMARY:Deadline to register for National Youth AgriScience Summit Applications—for NJ teens
DESCRIPTION:
URL:https://www.sussex4h.org/event/deadline-to-register-for-national-youth-agriscience-summit-applications-for-nj-teens
CATEGORIES:National Event
ATTACH;FMTTYPE=image/jpeg:https://www.sussex4h.org/wp-content/uploads/2022/01/2022-Agri-Science-Summit-Flyer-Instagram-Post.jpg
END:VEVENT
BEGIN:VEVENT
DTSTART;VALUE=DATE:20220101
DTEND;VALUE=DATE:20220201
DTSTAMP:20260420T030547
CREATED:20220106T154954Z
LAST-MODIFIED:20220106T154954Z
UID:22363-1640995200-1643673599@www.sussex4h.org
SUMMARY:New Year\, Better You: Monthly Challenge
DESCRIPTION:  \nAll 4-H members are invited to participate in four monthly challenges related to the Four H’s!  January’s challenge is the HANDS Challenge in honor of the MLK Day of Service.  Complete a service project by the end of January\, working alone or with friends. Record your results and get a certificate with the hours you volunteered!  For info on ideas for service projects click here and to record your project visit this site. \nFor more Info:  lbovitz@njaes.rutgers.edu or amelia.valente@njaes.rutgers.edu
URL:https://www.sussex4h.org/event/new-year-better-you-monthly-challenge
CATEGORIES:State 4-H Event
ATTACH;FMTTYPE=image/jpeg:https://www.sussex4h.org/wp-content/uploads/2022/01/New-Year-Better-You-Service-Flyer-scaled.jpg
ORGANIZER;CN="Laura Bovitz":MAILTO:lbovitz@njaes.rutgers.edu.
END:VEVENT
BEGIN:VEVENT
DTSTART;VALUE=DATE:20220101
DTEND;VALUE=DATE:20220102
DTSTAMP:20260420T030547
CREATED:20211021T160246Z
LAST-MODIFIED:20211021T160246Z
UID:21694-1640995200-1641081599@www.sussex4h.org
SUMMARY:Deadline to Register for the 2021/2022 4-H Project Year
DESCRIPTION:Do not forget to Reenroll in 4-H Online for this Project Year!\n\nLast Day to register to be considered a member in good standing for this project year. \nPlease follow these directions to re-enroll for the new 4-H program year.To begin\, go to http://v2.4honline.comYou should be able to login with your current information (username: email and password.) If you’ve forgotten your password\, click the Reset Password link to have a temporary password sent to your email address.For instructions go to: https://www.sussex4h.org/wp-content/uploads/2020/10/Ssx_4HMmbrRnrlmnt_9-29-20-1.pdf
URL:https://www.sussex4h.org/event/deadline-to-register-for-the-2021-2022-4-h-project-year
ATTACH;FMTTYPE=image/jpeg:https://www.sussex4h.org/wp-content/uploads/2021/10/download-1.jpg
END:VEVENT
BEGIN:VEVENT
DTSTART;VALUE=DATE:20211231
DTEND;VALUE=DATE:20220101
DTSTAMP:20260420T030547
CREATED:20211021T155050Z
LAST-MODIFIED:20211021T155050Z
UID:21691-1640908800-1640995199@www.sussex4h.org
SUMMARY:RCE/4-H Office Closed
DESCRIPTION:
URL:https://www.sussex4h.org/event/rce-4-h-office-closed-3
ATTACH;FMTTYPE=image/jpeg:https://www.sussex4h.org/wp-content/uploads/2021/10/OIP-18.jpg
END:VEVENT
BEGIN:VEVENT
DTSTART;VALUE=DATE:20211224
DTEND;VALUE=DATE:20211225
DTSTAMP:20260420T030547
CREATED:20211021T154747Z
LAST-MODIFIED:20211021T154747Z
UID:21689-1640304000-1640390399@www.sussex4h.org
SUMMARY:RCE/4-H Office Closed
DESCRIPTION:
URL:https://www.sussex4h.org/event/rce-4-h-office-closed-2
ATTACH;FMTTYPE=image/jpeg:https://www.sussex4h.org/wp-content/uploads/2020/12/OIP-4.jpg
END:VEVENT
BEGIN:VEVENT
DTSTART;TZID=America/New_York:20211127T083000
DTEND;TZID=America/New_York:20211127T110000
DTSTAMP:20260420T030547
CREATED:20211025T141547Z
LAST-MODIFIED:20211025T150256Z
UID:14234-1638001800-1638010800@www.sussex4h.org
SUMMARY:2021 Newton Holiday Parade
DESCRIPTION:Sussex County 4-H Clubs you are invited to participate in this year’s traditional holiday event by marching in the Greater Newton Chamber of Commerce Holiday Parade! \nThis event has been held for over 50 years with participants from all over the county. The parade begins promptly at 10:00 am. The theme of this year’s parade is An Old-Fashioned Christmas. Please feel free to use your imagination to bring your group or float to life. \nAwards will be given for floats and/or groups who best depict the theme. \nPlease be advised that floats and groups that wish to be judged must be in place by 8:30 AM. Judging will begin promptly by 8:30 AM.  \nIf you are interested in building a float there are several supply and informational sites available on the web. \nAll floats will enter lower Spring Street via Diller Avenue with judging taking place before the parade so that as participants reach the reviewing stand the winners will be announced. \nAll other participating marchers and vehicles should arrive between 8:30-9:30 AM at lower Spring Street staging area\, this is open to drop off marchers only. \nNo one is allowed to park their vehicle in the staging area. \nBe advised that the staging area will be blocked off to all vehicular traffic. \nParking is available at all municipal parking lots in the Town\, and down at Memory Park. \nMusical groups\, floats\, animals\, and vehicles such as antique cars are welcome to participate in the Parade. If you or your group wish to join in the parade festivities\, please fill out \nFloat Application \nSponsorship Application \nreturn it to the Greater Newton Chamber of Commerce by November 1\, 2021. \nMail\, email\, or fax form to: \nGreater Newton Chamber of Commerce\nP.O. Box 386\nNewton\, NJ 07860 \nEMAIL: info@greaternewtoncc.com/ \nPHONE: 973-300-0433 – FAX- 973-579-6114 \nWe look forward to celebrating the beginning of the Holiday Season with you on November 27\, 2021 \nSincerely\, \nThe Holiday Parade Committee
URL:https://www.sussex4h.org/event/2019-newton-holiday-parade
LOCATION:Town of Newton\, NJ\, Diller Avenue\, Newton\, 07860\, United States
CATEGORIES:Local Event
ATTACH;FMTTYPE=image/png:https://www.sussex4h.org/wp-content/uploads/2019/10/NewtonParade-Route.fw_.png
ORGANIZER;CN="Greater Newton Chamber of Commerce":MAILTO:info@greaternewtoncc.com
END:VEVENT
BEGIN:VEVENT
DTSTART;VALUE=DATE:20211125
DTEND;VALUE=DATE:20211127
DTSTAMP:20260420T030547
CREATED:20211021T154242Z
LAST-MODIFIED:20211021T154501Z
UID:21687-1637798400-1637971199@www.sussex4h.org
SUMMARY:RCE/4-H Office Closed
DESCRIPTION:
URL:https://www.sussex4h.org/event/rce-4-h-office-closed
ATTACH;FMTTYPE=image/jpeg:https://www.sussex4h.org/wp-content/uploads/2020/11/OIP-2.jpg
END:VEVENT
BEGIN:VEVENT
DTSTART;TZID=America/New_York:20211120T093000
DTEND;TZID=America/New_York:20211120T110000
DTSTAMP:20260420T030547
CREATED:20211021T153715Z
LAST-MODIFIED:20211021T154440Z
UID:21684-1637400600-1637406000@www.sussex4h.org
SUMMARY:Foundation Wreath Sale Club Pick up
DESCRIPTION:Wreath pick-up will be Saturday\, November 20th at the Sussex County Fairgrounds from 9:30 am to 11 am. \nUse the following link to sign up for a time slot for pick up:\nhttps://signup.com/go/gQqGzHC \nA Club Leader (or designated adult) will be in charge of picking up wreaths for your club and distributing them to your members.
URL:https://www.sussex4h.org/event/foundation-wreath-sale-club-pick-up
END:VEVENT
BEGIN:VEVENT
DTSTART;TZID=America/New_York:20211115T083000
DTEND;TZID=America/New_York:20211115T163000
DTSTAMP:20260420T030547
CREATED:20211021T150652Z
LAST-MODIFIED:20211021T150652Z
UID:21671-1636965000-1636993800@www.sussex4h.org
SUMMARY:4-H End of Project Year Member Recognition Forms Due
DESCRIPTION:Please complete the 2020/21 End of Project Year 4-H Member Recognition forms and return them to the 4-H Office by November 15th. \nEnd of Project Year Recognition Certificates and Pins Order Form \nProject Medal Recommendation Form \nCloverbud Club End of Year Summary Form \nIf you have questions please contact Tanya (patrie@njaes.rutgers.edu).
URL:https://www.sussex4h.org/event/4-h-end-of-project-year-member-recognition-forms-due
ATTACH;FMTTYPE=image/jpeg:https://www.sussex4h.org/wp-content/uploads/2021/10/Redognition-example.jpg
END:VEVENT
END:VCALENDAR