BEGIN:VCALENDAR
VERSION:2.0
PRODID:-//Sussex County 4-H - ECPv6.14.1//NONSGML v1.0//EN
CALSCALE:GREGORIAN
METHOD:PUBLISH
X-WR-CALNAME:Sussex County 4-H
X-ORIGINAL-URL:https://www.sussex4h.org
X-WR-CALDESC:Events for Sussex County 4-H
REFRESH-INTERVAL;VALUE=DURATION:PT1H
X-Robots-Tag:noindex
X-PUBLISHED-TTL:PT1H
BEGIN:VTIMEZONE
TZID:America/New_York
BEGIN:DAYLIGHT
TZOFFSETFROM:-0500
TZOFFSETTO:-0400
TZNAME:EDT
DTSTART:20190310T070000
END:DAYLIGHT
BEGIN:STANDARD
TZOFFSETFROM:-0400
TZOFFSETTO:-0500
TZNAME:EST
DTSTART:20191103T060000
END:STANDARD
BEGIN:DAYLIGHT
TZOFFSETFROM:-0500
TZOFFSETTO:-0400
TZNAME:EDT
DTSTART:20200308T070000
END:DAYLIGHT
BEGIN:STANDARD
TZOFFSETFROM:-0400
TZOFFSETTO:-0500
TZNAME:EST
DTSTART:20201101T060000
END:STANDARD
END:VTIMEZONE
BEGIN:VEVENT
DTSTART;TZID=America/New_York:20200118T100000
DTEND;TZID=America/New_York:20200118T160000
DTSTAMP:20260421T173743
CREATED:20191018T000338Z
LAST-MODIFIED:20191018T000338Z
UID:13506-1579341600-1579363200@www.sussex4h.org
SUMMARY:State 4-H Model Horse Show
DESCRIPTION:The New Jersey 4‑H Model Horse Project is an educational program\, entailing the collecting\, photographing and showing of model horses. This sincere hobby inspires 4‑H’ers to pursue perfection\, authenticity and artistry. The “world of the model horse show” involves a vast equine knowledge and skill to reproduce the realism needed to portray the image of a live horse. The world of model horses is both interesting and informative. 4‑H horse lovers of all ages will enjoy participating in this project. It is especially accommodating for 4‑H’ers who do not have horses or for 4‑H’ers who\, because of health reasons\, cannot physically work around live horses. \nExhibiting and photographing model horses can be a total learning experience. 4‑H’ers discover the structure of the horse—anatomy and conformation; way-of-going; colors; markings; proper tack\, equipment and attire; and styles of riding and showing. Numerous skills are developed in sculpting\, painting\, leather-work\, photography\, collecting and record keeping. The only limitations are your knowledge and imagination. The ultimate goal is to take the specific action of a live horse\, freeze it in time and portray it in model size. Realism and correctness are the intent. \nModel horse shows were started by adults in the mid-1960s\, first with the “photo” show and later the “live” show. In a photo show\, a picture of a model horse is assessed. The horse is photographed at halter or in a performance class. The photo is sent to a “photo show” to be judged. A “live show” is where the actual model is exhibited and judged.
URL:https://www.sussex4h.org/event/state-4-h-model-horse-show
LOCATION:Somerset County 4-H Office\, 310 Milltown Road\, Bridgewater\, NJ\, 08807\, United States
CATEGORIES:State 4-H Event
ATTACH;FMTTYPE=image/png:https://www.sussex4h.org/wp-content/uploads/2019/10/model-horse.fw_.png
ORGANIZER;CN="Carol Ward%2C State Livestock Show Coordinator":MAILTO:ward@njaes.rutgers.edu
END:VEVENT
BEGIN:VEVENT
DTSTART;VALUE=DATE:20200118
DTEND;VALUE=DATE:20200119
DTSTAMP:20260421T173743
CREATED:20190920T180656Z
LAST-MODIFIED:20190920T191027Z
UID:8986-1579305600-1579391999@www.sussex4h.org
SUMMARY:New Jersey 4-H Model Horse Show
DESCRIPTION:The New Jersey 4‑H Model Horse Project is an educational program\, entailing the collecting\, photographing and showing of model horses. This sincere hobby inspires 4‑H’ers to pursue perfection\, authenticity\, and artistry. The “world of the model horse show” involves a vast equine knowledge and skill to reproduce the realism needed to portray the image of a live horse. The world of model horses is both interesting and informative. 4‑H horse lovers of all ages will enjoy participating in this project. It is especially accommodating for 4‑H’ers who do not have horses or for 4‑H’ers who\, because of health reasons\, cannot physically work around live horses. \nExhibiting and photographing model horses can be a total learning experience. 4‑H’ers discover the structure of the horse—anatomy\, and conformation; way-of-going; colors; markings; proper tack\, equipment\, and attire; and styles of riding and showing. Numerous skills are developed in sculpting\, painting\, leather-work\, photography\, collecting and record keeping. The only limitations are your knowledge and imagination. The ultimate goal is to take the specific action of a live horse\, freeze it in time and portray it in model size. Realism and correctness are the intent. \nModel horse shows were started by adults in the mid-1960s\, first with the “photo” show and later the “live” show. In a photo show\, a picture of a model horse is assessed. The horse is photographed at halter or in a performance class. The photo is sent to a “photo show” to be judged. A “live show” is where the actual model is exhibited and judged. \nSnow Date: Sunday\, Jan. 19\, 2020. Call 908-892-3255 for a recorded message if weather is questionable in any part of the state.
URL:https://www.sussex4h.org/event/new-jersey-4-h-model-horse-show
LOCATION:Somerset County 4-H Office\, 310 Milltown Road\, Bridgewater\, NJ\, 08807\, United States
CATEGORIES:State 4-H Event
ORGANIZER;CN="Carol Ward%2C State Livestock Show Coordinator":MAILTO:ward@njaes.rutgers.edu
END:VEVENT
BEGIN:VEVENT
DTSTART;VALUE=DATE:20200109
DTEND;VALUE=DATE:20200113
DTSTAMP:20260421T173743
CREATED:20190920T211931Z
LAST-MODIFIED:20190920T211931Z
UID:8804-1578528000-1578873599@www.sussex4h.org
SUMMARY:National Agri-Science Youth Summit
DESCRIPTION:The National 4‑H Youth Summit on Agri-Science provides an opportunity for 4‑H members in grades 9-12 to develop the skills and knowledge needed for the challenges facing agriculture\, food security and sustainability. National 4 H Council and National 4 H Conference Center have partnered with agricultural scientists\, researchers\, leaders\, politicians\, and advocates to host the National Youth Summit on Agri-Science. This Summit emphasizes hands-on educational experiences led by experts in the agricultural community.
URL:https://www.sussex4h.org/event/national-agri-science-youth-summit
LOCATION:National 4-H Conference Center\, 7100 Connecticut Avenue\, Chevy Chase\, MD\, 20815\, United States
CATEGORIES:National Event
ORGANIZER;CN="Jeannette Rea-Keywood%2C State 4-H Agent":MAILTO:keywood@njaes.rutgers.edu
END:VEVENT
BEGIN:VEVENT
DTSTART;TZID=America/New_York:20191231T080000
DTEND;TZID=America/New_York:20191231T170000
DTSTAMP:20260421T173743
CREATED:20191231T213352Z
LAST-MODIFIED:20191231T213352Z
UID:15891-1577779200-1577811600@www.sussex4h.org
SUMMARY:2020 NJ State 4-H Animal Science Contest and Film Festival
DESCRIPTION:Youth may work individually or as a team to create and enter educational videos about alpacas\, cats\, cattle (beef/dairy)\, dogs\, goats\, herpetology\, horses\, llamas\, poultry\, rabbits\, sheep\, small animals\, or swine in the NJ 4‑H State Animal Science Video Contest. A selection of videos will be shared at the film festival during the final session of the Junior Breeder Livestock Symposium. The youth of the top three scoring videos will receive awards. Videos will be scored on educational value\, creativity\, clarity\, pacing\, and technical quality (sound\, lighting\, etc.). Youth are encouraged to have fun and be creative in designing their video entries! To enter your video in the contest\, email Erika Kaufman\, ekaufman@mercercounty.org\, by March 2 for a link to use to upload your video\, entry form\, and media release form(s). \n Entries must be uploaded by March 9\, 2020. \n  \nMore information and registration can be found at https://nj4h.rutgers.edu/animals/film-festival/
URL:https://www.sussex4h.org/event/2020-nj-state-4-h-animal-science-contest-and-film-festival
LOCATION:MD
CATEGORIES:State 4-H Event
ORGANIZER;CN="Chad Ripberger%2C 4-H Agent%2C Mercer County":MAILTO:ripberger@njaes.rutgers.edu
END:VEVENT
BEGIN:VEVENT
DTSTART;VALUE=DATE:20191127
DTEND;VALUE=DATE:20191202
DTSTAMP:20260421T173743
CREATED:20190920T212050Z
LAST-MODIFIED:20190925T205001Z
UID:9095-1574812800-1575244799@www.sussex4h.org
SUMMARY:National 4-H Congress
DESCRIPTION:National 4‑H Congress is a unique leadership opportunity for 4‑H members from all 50 states. The event focuses on leadership\, youth empowerment\, community service\, career development\, and cultural diversity. The event brings over 1000 4‑H members to Atlanta over the Thanksgiving holiday weekend. The planning committee takes advantage of Atlanta’s standing as an international city and exposes delegates to as many venues in the city as possible including the Centennial Olympic Park\, the World of Coke-A-Cola\, CNN Center\, Carter Presidential Library and the Martin Luther King Center. There are many outstanding workshops along with keynote addresses that round out the experience. This is a once-in-a-lifetime opportunity for 4‑H members. \nNew Jersey sends approximately 20 4‑H members and two adult chaperones to the event each year. One to three delegates are nominated from each county and then final delegates are selected through a state interview process. The cost of the event is approximately $950-$1\,000 and includes air transportation\, registration\, lodging\, and most meals. All interested 4‑H members must be in the grades 10-12 at the time applications are due (April); complete an application and go through a county and state selection process. Participants can only attend this event one time during their 4‑H career.
URL:https://www.sussex4h.org/event/national-4-h-congress
LOCATION:MD
CATEGORIES:National Event
ATTACH;FMTTYPE=image/png:https://www.sussex4h.org/wp-content/uploads/2019/09/National-4-H-Congress.fw_.png
ORGANIZER;CN="Jeannette Rea-Keywood%2C State 4-H Agent":MAILTO:keywood@njaes.rutgers.edu
END:VEVENT
BEGIN:VEVENT
DTSTART;TZID=America/New_York:20191126T183000
DTEND;TZID=America/New_York:20191126T203000
DTSTAMP:20260421T173743
CREATED:20191017T203736Z
LAST-MODIFIED:20191017T203736Z
UID:13479-1574793000-1574800200@www.sussex4h.org
SUMMARY:Sussex 4-H Horse Knowledge Sessions
DESCRIPTION:Horse Knowledge Sessions are educational programs set up to teach and assist 4-H horse members planning to participate in the State 4-H competitions of Horse Bowl\, Horse Judging\, and Hippology. You do not have to participate in the state events to attend these sessions. There is lots of good information to be learned about horses and the instructors\, Michelle Teitsma and Tabitha Higgins make it fun!
URL:https://www.sussex4h.org/event/sussex-4-h-horse-knowledge-sessions-4
LOCATION:Visions Federal Credit Union\, Community Room\, 47 US-206\, Augusta\, NJ\, 07822\, United States
CATEGORIES:Local Event
ORGANIZER;CN="Michelle Teitsma":MAILTO:teitsma@njaes.rutgers.edu
END:VEVENT
BEGIN:VEVENT
DTSTART;TZID=America/New_York:20191123T090000
DTEND;TZID=America/New_York:20191123T110000
DTSTAMP:20260421T173743
CREATED:20191010T154720Z
LAST-MODIFIED:20191010T154720Z
UID:12120-1574499600-1574506800@www.sussex4h.org
SUMMARY:Sussex County 4-H Wreath Pickup
DESCRIPTION:The 4-H Foundation will be distributing wreaths on Saturday\, November 23 at the Sussex County Fairgrounds. \nThe exact location will be determined based on the weather. Assuming no precipitation\, wreaths will be distributed from the parking lot of the Administration Building. \nIn the event of bad weather (snow\, sleet\, rain\, etc)\, distribution will be out of Barn 5.
URL:https://www.sussex4h.org/event/sussex-county-4-h-wreath-pickup
LOCATION:Sussex County Fairgrounds\, 37 Plains Road\, Augusta\, NJ\, 07822\, United States
CATEGORIES:Local Event
ATTACH;FMTTYPE=image/png:https://www.sussex4h.org/wp-content/uploads/2019/10/Wreath_2.fw_.png
ORGANIZER;CN="Sussex County 4-H":MAILTO:patrie@njaes.rutgers.edu
END:VEVENT
BEGIN:VEVENT
DTSTART;TZID=America/New_York:20191119T183000
DTEND;TZID=America/New_York:20191119T203000
DTSTAMP:20260421T173743
CREATED:20191017T203500Z
LAST-MODIFIED:20191017T203500Z
UID:13452-1574188200-1574195400@www.sussex4h.org
SUMMARY:Sussex 4-H Horse Knowledge Sessions
DESCRIPTION:Horse Knowledge Sessions are educational programs set up to teach and assist 4-H horse members planning to participate in the State 4-H competitions of Horse Bowl\, Horse Judging\, and Hippology. You do not have to participate in the state events to attend these sessions. There is lots of good information to be learned about horses and the instructors\, Michelle Teitsma and Tabitha Higgins make it fun!
URL:https://www.sussex4h.org/event/sussex-4-h-horse-knowledge-sessions-3
LOCATION:Visions Federal Credit Union\, Community Room\, 47 US-206\, Augusta\, NJ\, 07822\, United States
CATEGORIES:Local Event
ORGANIZER;CN="Tabitha Higgins":MAILTO:ahtibat@embarqmail.com
END:VEVENT
BEGIN:VEVENT
DTSTART;TZID=America/New_York:20191114T183000
DTEND;TZID=America/New_York:20191114T203000
DTSTAMP:20260421T173743
CREATED:20191010T202913Z
LAST-MODIFIED:20191010T202913Z
UID:12176-1573756200-1573763400@www.sussex4h.org
SUMMARY:Small Scale Animal Production Series: Small Ruminants
DESCRIPTION:Topics Include:\n\nNew Identification Regulations\nScrapie Program\nBiosecurity\nFAMACHA Method\n\nPresenters Include Experts from:\n\nUSDA Animal and Plant Health Inspection\nService\nRutgers New Jersey Agricultural Experiment\nStation
URL:https://www.sussex4h.org/event/small-scale-animal-production-series-small-ruminants
LOCATION:Warren Grange\, 101 Asbury Broadway Road\, Washington\, 07882\, United States
CATEGORIES:Local Event
ATTACH;FMTTYPE=image/png:https://www.sussex4h.org/wp-content/uploads/2019/10/RU_SIG_NJAES_CMYK.fw_.png
ORGANIZER;CN="Stacie Fischbach":MAILTO:agriculture@co.warren.nj.us
END:VEVENT
BEGIN:VEVENT
DTSTART;TZID=America/New_York:20191112T183000
DTEND;TZID=America/New_York:20191112T203000
DTSTAMP:20260421T173743
CREATED:20191017T203305Z
LAST-MODIFIED:20191231T213745Z
UID:13450-1573583400-1573590600@www.sussex4h.org
SUMMARY:Sussex 4-H Horse Knowledge Sessions
DESCRIPTION:Horse Knowledge Sessions are educational programs set up to teach and assist 4-H horse members planning to participate in the State 4-H competitions of Horse Bowl\, Horse Judging\, and Hippology. You do not have to participate in the state events to attend these sessions. There is lots of good information to be learned about horses and the instructors\, Michelle Teitsma and Tabitha Higgins make it fun!
URL:https://www.sussex4h.org/event/sussex-4-h-horse-knowledge-sessions-2
LOCATION:Visions Federal Credit Union\, Community Room\, 47 US-206\, Augusta\, NJ\, 07822\, United States
CATEGORIES:Local Event
ORGANIZER;CN="Tabitha Higgins":MAILTO:ahtibat@embarqmail.com
END:VEVENT
BEGIN:VEVENT
DTSTART;TZID=America/New_York:20191105T183000
DTEND;TZID=America/New_York:20191105T203000
DTSTAMP:20260421T173743
CREATED:20191017T203048Z
LAST-MODIFIED:20191017T203048Z
UID:13447-1572978600-1572985800@www.sussex4h.org
SUMMARY:Sussex 4-H Horse Knowledge Sessions
DESCRIPTION:Horse Knowledge Sessions are educational programs set up to teach and assist 4-H horse members planning to participate in the State 4-H competitions of Horse Bowl\, Horse Judging\, and Hippology. You do not have to participate in the state events to attend these sessions. There is lots of good information to be learned about horses and the instructors\, Michelle Teitsma and Tabitha Higgins make it fun!
URL:https://www.sussex4h.org/event/sussex-4-h-horse-knowledge-sessions
LOCATION:Visions Federal Credit Union\, Community Room\, 47 US-206\, Augusta\, NJ\, 07822\, United States
CATEGORIES:Local Event
ORGANIZER;CN="Tabitha Higgins":MAILTO:ahtibat@embarqmail.com
END:VEVENT
BEGIN:VEVENT
DTSTART;TZID=America/New_York:20191026T100000
DTEND;TZID=America/New_York:20191027T170000
DTSTAMP:20260421T173743
CREATED:20190917T152835Z
LAST-MODIFIED:20190920T191055Z
UID:8386-1572084000-1572195600@www.sussex4h.org
SUMMARY:Ideal Farms Maker Festival
DESCRIPTION:This October 26th and 27th\, Ideal Farms will be hosting the fourth annual Ideal Farms Maker Festival. Come join us for a weekend of STEM\, Art\, and DIY culture. \nThis year\, we’re looking to expand the selection of events. Any Science Fair project\, STEM Club\, Art and Craft Club are welcome to participate. There’ll be many professional engineers and researchers attending. This is a good opportunity to get technical advice on improving current projects or designing future ones.
URL:https://www.sussex4h.org/event/ideal-farms-maker-festival
LOCATION:Ideal Farm and Garden Center\, 222 Route 15\, Lafayette\, NJ\, 07848\, United States
CATEGORIES:Local Event
ORGANIZER;CN="Ideal Farm Maker Fest":MAILTO:Ideal.Farms.Makers@protonmail.com
END:VEVENT
BEGIN:VEVENT
DTSTART;TZID=America/New_York:20191020T130000
DTEND;TZID=America/New_York:20191020T160000
DTSTAMP:20260421T173743
CREATED:20190927T163322Z
LAST-MODIFIED:20190927T163322Z
UID:10338-1571576400-1571587200@www.sussex4h.org
SUMMARY:Close Encounters with Birds of Prey
DESCRIPTION:Raptors are birds of prey such as eagles\, hawks\, falcons or owls. Their innate abilities to survive can teach us about adaptations and the critical role raptors play in our environment. As predators at the top of the food chain\, raptor populations are sensitive to environmental changes; their fate is linked directly with human actions. \nFunds would support a program led by the Avian Wildlife Center (Sussex\, NJ) featuring live birds /raptors from their rehabilitation program. The presenter would relate how raptors behave in the environs of Stokes State Forest where the LG Cook 4-H Camp is situated. Youth will learn about raptors unique features: hooked beak\, strong feet with sharp talons\, keen eyesight\, and a carnivorous diet.
URL:https://www.sussex4h.org/event/close-encounters-with-birds-of-prey
LOCATION:Brandwein Nature Learning Preserve\, 391 Minisink Turnpike\, Greenville\, NY\, 12771\, United States
CATEGORIES:Local Event
ATTACH;FMTTYPE=image/jpeg:https://www.sussex4h.org/wp-content/uploads/2019/09/kestrel-2.jpg
ORGANIZER;CN="Brandwein Institute":MAILTO:keith.wheeler7@gmail.com
END:VEVENT
BEGIN:VEVENT
DTSTART;TZID=America/New_York:20191019T170000
DTEND;TZID=America/New_York:20191019T200000
DTSTAMP:20260421T173743
CREATED:20190904T152429Z
LAST-MODIFIED:20190920T191137Z
UID:6107-1571504400-1571515200@www.sussex4h.org
SUMMARY:Halloween Happenings 2019
DESCRIPTION:Please join us for an evening of fun-filled activities including pumpkin decorating\, face painting\, a child-friendly hayride\, costume parade\, and trick-or-treating!\nClubs and 4-H Families are invited to join in the fun too! We need 4-H clubs and volunteers to host trick or treating booths\, run and supervise our crafts and activities areas\, and provide baked foods. We also need help with soliciting supplies\, setting up\, parking\, and cleaning up. If you have other ideas for participation\, please let us know. \nWe will also be holding a Pumpkin Decorating Contest. 4-H clubs or 4-H families/members can enter pumpkins. These may be carved or painted\, but all must be completed upon arrival. All entries need to be checked-in by 5:30 pm to be eligible. Judging will take place between 6:00-7:00 pm\, with the winner announced around 7:30 pm.\nPlease encourage families to join us! The event is open to all; you don’t have to be in 4-H. Bring along friends who may be interested in 4-H. The more the merrier!\nThis year there will be a $5 suggested donation and/or a bag of candy per car. This applies to guests as well as 4-H members/families attending—but not participating in—the event.
URL:https://www.sussex4h.org/event/halloween-happenings-2019
LOCATION:Sussex County Fairgrounds\, 37 Plains Road\, Augusta\, NJ\, 07822\, United States
CATEGORIES:Halloween Happenings,Local Event
ORGANIZER;CN="Sussex County 4-H":MAILTO:patrie@njaes.rutgers.edu
END:VEVENT
BEGIN:VEVENT
DTSTART;TZID=America/New_York:20191015T190000
DTEND;TZID=America/New_York:20191015T210000
DTSTAMP:20260421T173743
CREATED:20190920T163511Z
LAST-MODIFIED:20190920T191216Z
UID:8957-1571166000-1571173200@www.sussex4h.org
SUMMARY:Fall 4-H Volunteer Orientation
DESCRIPTION:This will be a two-hour orientation to the Sussex County 4-H program for adult volunteers completing the volunteer appointment process. \nThose interested in becoming appointed 4-H volunteers should review and complete the other steps included in Becoming a 4-H Volunteer in Sussex County
URL:https://www.sussex4h.org/event/fall-4-h-volunteer-orientation
LOCATION:Sussex County RCE/4-H Office\, 130 Morris Turnpike\, Newton\, NJ\, 07860\, United States
CATEGORIES:Local Event
ORGANIZER;CN="Sussex County 4-H":MAILTO:patrie@njaes.rutgers.edu
END:VEVENT
BEGIN:VEVENT
DTSTART;TZID=America/New_York:20191011T183000
DTEND;TZID=America/New_York:20191011T200000
DTSTAMP:20260421T173743
CREATED:20190904T154910Z
LAST-MODIFIED:20190920T191257Z
UID:6105-1570818600-1570824000@www.sussex4h.org
SUMMARY:Volunteer Appreciation & Recognition Social
DESCRIPTION:Please join us so that we may show our appreciation to you\, our dedicated leaders and volunteers. It will be a wonderful opportunity for you to meet\, get to know\, and share ideas with other 4-H volunteers in a relaxed setting. The 4-H office will also be highlighting events that may be of interest to your club\, as well as\, a few club housekeeping reminders. \nThe social will be held in the Administration Building at the Fairgrounds. \nLight appetizers\, desserts\, and beverages will be served. Door prizes will be awarded throughout the evening. \n4-H staff will offer the Rutgers Protection of Minors (POM) training after the social. The training takes less than 30 minutes and is required annually for all 4-H volunteers.
URL:https://www.sussex4h.org/event/volunteer-appreciation-recognition-social
LOCATION:Sussex County Fairgrounds\, 37 Plains Road\, Augusta\, NJ\, 07822\, United States
CATEGORIES:Local Event
ORGANIZER;CN="Sussex County 4-H":MAILTO:patrie@njaes.rutgers.edu
END:VEVENT
BEGIN:VEVENT
DTSTART;VALUE=DATE:20191009
DTEND;VALUE=DATE:20191021
DTSTAMP:20260421T173743
CREATED:20191001T130038Z
LAST-MODIFIED:20190920T191343Z
UID:8220-1570579200-1571615999@www.sussex4h.org
SUMMARY:Fall Paper Clover Fundraiser
DESCRIPTION:October 9-20\, 2019 Sussex Tractor Supply customers can participate in the 2019 Fall Paper Clover campaign by purchasing paper clovers for $1 or more at checkout. The funds raised will be awarded as scholarships to individual Sussex County 4-H members wishing to attend 4-H camps and leadership conferences across the country. The number of scholarships distributed to students following the fall campaign will be determined based on the total amount raised.
URL:https://www.sussex4h.org/event/fall-paper-clover-fundraiser
LOCATION:Sussex Tractor Supply Company\, 775 RTE 23\, Sussex\, New Jersey\, 07461\, United States
CATEGORIES:Local Event
ORGANIZER;CN="Sussex County 4-H":MAILTO:patrie@njaes.rutgers.edu
END:VEVENT
BEGIN:VEVENT
DTSTART;TZID=America/New_York:20191006T130000
DTEND;TZID=America/New_York:20191006T150000
DTSTAMP:20260421T173743
CREATED:20190925T160955Z
LAST-MODIFIED:20190925T160955Z
UID:9910-1570366800-1570374000@www.sussex4h.org
SUMMARY:Learn Geocaching at Brandwein Preserve
DESCRIPTION:Join us for a fun-filled\, but relaxing day of geocaching at the Brandwein Nature Learning Preserve in Greenville\, New York (approx. 7 miles over the Sussex County border) on Sunday\, October 6 from 1-3 pm. \nGeocaching is a real-world\, outdoor treasure hunting game using GPS-enabled devices. Participants navigate to a specific set of GPS coordinates and then attempt to find the geocache (container) hidden at that location. \nGPS units will be provided at the Brandwein Nature Learning Preserve\, but you’ll learn how to continue playing using a smartphone. \nJoin Kevin DeVizia (aka “Captain Math”) for a fun-filled afternoon of geocaching at the Preserve. The program will show those new to geocaching how to get started. Experienced cachers will have the chance to learn new strategies for solving and setting caches. \nTo learn more about geocaching\, check out this video. \nThe Brandwein Nature Learning Preserve offers a unique experience for photographers\, students\, educators and naturalists. A perfect site for birding and observing nature\, enhanced by Rutgers Creek and featuring a diversity of habitat\, the Brandwein Nature Learning Preserve experience has been designed to provide ease of access and features well maintained trails. \nReservations recommended: \nhttps://waiver.fr/p-muyr2
URL:https://www.sussex4h.org/event/learn-geocaching-at-brandwein-preserve
LOCATION:Brandwein Nature Learning Preserve\, 391 Minisink Turnpike\, Greenville\, NY\, 12771\, United States
CATEGORIES:Local Event
ATTACH;FMTTYPE=image/jpeg:https://www.sussex4h.org/wp-content/uploads/2019/09/geocaching_bnlp_sml.jpg
ORGANIZER;CN="Brandwein Institute":MAILTO:keith.wheeler7@gmail.com
END:VEVENT
BEGIN:VEVENT
DTSTART;TZID=America/New_York:20190922T130000
DTEND;TZID=America/New_York:20190922T160000
DTSTAMP:20260421T173743
CREATED:20190916T194040Z
LAST-MODIFIED:20190920T191430Z
UID:8141-1569157200-1569168000@www.sussex4h.org
SUMMARY:Brandwein Family Citizen Science Workshop
DESCRIPTION:Citizen Science is a new approach to scientific research. Instead of using just highly educated professional scientists\, Citizen Science invites everybody (citizens) to collect information/data that can be evaluated and used by scientists/experts.\nEveryday people can observe\, document and share scientific data with free software using their smartphones. With lots of groups involved\, a crowd of data can be transmitted to the Cloud for scientists. Fieldwork that once depended on a few students can now be undertaken by any number of individuals—and families. More information can be collected and shared faster than ever before. This can accelerate the pace of science and improve understanding of our world.\nThe Brandwein Institute is hosting workshops for parents and their children as well as community groups (i.e. 4-H\, scouts\, science teachers\, and clubs) this Sunday\, 9/22\, 12-4:00 pm. You can learn first-hand how to become a citizen scientist\, experiencing how science is done. Participants will not only learn how to collect and transmit data\, they’ll learn how scientists use this information. It’s an opportunity to learn and be part of science! \nSpecifically\, participants will learn how to measure and collect data on:\n1. trees\, seasonal phenology dates\, and assess the general health of a forest.\n2. local bird migration and invasive species through a “BioBlitz” protocol. \nAll the data collected will be shared with GLOBE and iNaturalist scientists. \nAdvance Registration Recommended:\nhttps://waiver.fr/p-WF4J8
URL:https://www.sussex4h.org/event/brandwein-family-citizen-science-workshop
LOCATION:Brandwein Nature Learning Preserve\, 391 Minisink Turnpike\, Greenville\, NY\, 12771\, United States
CATEGORIES:Local Event
ATTACH;FMTTYPE=image/jpeg:https://www.sussex4h.org/wp-content/uploads/2019/09/Dan_Kasey_Wkshp_4-22-19_sml.jpg
ORGANIZER;CN="Brandwein Institute":MAILTO:keith.wheeler7@gmail.com
END:VEVENT
BEGIN:VEVENT
DTSTART;VALUE=DATE:20190801
DTEND;VALUE=DATE:20190812
DTSTAMP:20260421T173743
CREATED:20190213T091524Z
LAST-MODIFIED:20190611T005334Z
UID:67-1564689600-1565553599@www.sussex4h.org
SUMMARY:2019 New Jersey State Fair/Sussex County Farm and Horse Show
DESCRIPTION:In partnership with NJSF/SCFHS\, Sussex County 4-H participates in New Jersey’s largest agricultural fair! 4-H members participate in animal shows and costume contests as well as displaying art\, crafts\, photography and other exhibits in the Shotwell 4-H Building.
URL:https://www.sussex4h.org/event/2019-new-jersey-state-fair-sussex-county-farm-and-horse-show
LOCATION:Sussex County Fairgrounds\, 37 Plains Road\, Augusta\, NJ\, 07822\, United States
CATEGORIES:New Jersey State Fair/Sussex County Farm and Horse Show
ORGANIZER;CN="Sussex County 4-H":MAILTO:patrie@njaes.rutgers.edu
END:VEVENT
BEGIN:VEVENT
DTSTART;TZID=America/New_York:20190720T090000
DTEND;TZID=America/New_York:20190720T150000
DTSTAMP:20260421T173743
CREATED:20190610T212213Z
LAST-MODIFIED:20191231T213808Z
UID:5556-1563613200-1563634800@www.sussex4h.org
SUMMARY:Shotwell Building Setup for Fair
DESCRIPTION:We will be setting up the Shotwell Building for the 2019 New Jersey State Fair/Sussex County Farm and Horse Show. To accomplish this\, we need your help! The work involves unpacking and assembling the platforms\, risers and club booths for 4-H exhibits.
URL:https://www.sussex4h.org/event/shotwell-building-setup-for-fair
LOCATION:Sussex County Fairgrounds\, 37 Plains Road\, Augusta\, NJ\, 07822\, United States
CATEGORIES:Local Event
ORGANIZER;CN="Sussex County 4-H":MAILTO:patrie@njaes.rutgers.edu
END:VEVENT
END:VCALENDAR